BEGIN:VCALENDAR
VERSION:2.0
PRODID:-//KGV Nussberg - ECPv4.9.11//NONSGML v1.0//EN
CALSCALE:GREGORIAN
METHOD:PUBLISH
X-WR-CALNAME:KGV Nussberg
X-ORIGINAL-URL:https://www.kgv-nussberg.de
X-WR-CALDESC:Veranstaltungen im KGV Nussberg
BEGIN:VTIMEZONE
TZID:Europe/Berlin
BEGIN:DAYLIGHT
TZOFFSETFROM:+0100
TZOFFSETTO:+0200
TZNAME:CEST
DTSTART:20250330T010000
END:DAYLIGHT
BEGIN:STANDARD
TZOFFSETFROM:+0200
TZOFFSETTO:+0100
TZNAME:CET
DTSTART:20251026T010000
END:STANDARD
END:VTIMEZONE
BEGIN:VEVENT
DTSTART;TZID=Europe/Berlin:20251128T190000
DTEND;TZID=Europe/Berlin:20251128T200000
DTSTAMP:20260424T161740
CREATED:20250916T223955Z
LAST-MODIFIED:20250916T224033Z
UID:3884-1764356400-1764360000@www.kgv-nussberg.de
SUMMARY:Bienenfreundliche Pflanzenauswahl (Infoabend des Bezirksverbands)
DESCRIPTION:\n\n\nHier gibts Infos für Kleingärtner aus erster Hand. Wir werden das Vereinsheim kuschlig warm einheizen. Für Getränke und Snacks wird auch gesorgt sein. Es steht also ein gemütlicher und informativer Abend zur Einläutung des Wochenendes bevor. \nOhne Anmeldung – einfach vorbeikommen! \nDiese kostenlosen Informationsabende werden für alle Gartenfreundinnen und Gartenfreunde des Bezirksverbandes Fallersleber Tor e.V. durchgeführt und finden jeweils um 19 Uhr in unserem Vereinsheim statt. Die Referenten der Schulungen sind unsere langjährig geschulten und erfahrenen Bezirksfachberater. \nIm Anschluss an die Vorträge kann lebhaft diskutiert werden und natürlich auch ein Erfahrungsaustausch erfolgen\, die Fachberater freuen sich über jeden Tipp. \nKleiner Hinweis (insbesondere an die „Neuen“) – gemäß Satzung habt Ihr Euch dazu verpflichtet neben der Mitgliederversammlung auch an den fachlichen Schulungen teilzunehmen 😀 Hier die weiteren Termine: \n \n\n\n\n\n\n\n
URL:https://www.kgv-nussberg.de/termin/bienenfreundliche-pflanzenauswahl-infoabend-des-bezirksverbands/
LOCATION:Vereinsheim KGV Nußberg
END:VEVENT
END:VCALENDAR