BEGIN:VCALENDAR
VERSION:2.0
PRODID:-//KGV Nussberg - ECPv4.9.11//NONSGML v1.0//EN
CALSCALE:GREGORIAN
METHOD:PUBLISH
X-WR-CALNAME:KGV Nussberg
X-ORIGINAL-URL:https://www.kgv-nussberg.de
X-WR-CALDESC:Veranstaltungen im KGV Nussberg
BEGIN:VTIMEZONE
TZID:Europe/Berlin
BEGIN:DAYLIGHT
TZOFFSETFROM:+0100
TZOFFSETTO:+0200
TZNAME:CEST
DTSTART:20260329T010000
END:DAYLIGHT
BEGIN:STANDARD
TZOFFSETFROM:+0200
TZOFFSETTO:+0100
TZNAME:CET
DTSTART:20261025T010000
END:STANDARD
END:VTIMEZONE
BEGIN:VEVENT
DTSTART;TZID=Europe/Berlin:20260214T100000
DTEND;TZID=Europe/Berlin:20260214T100000
DTSTAMP:20260424T133132
CREATED:20251008T233329Z
LAST-MODIFIED:20260123T151643Z
UID:3951-1771063200-1771063200@www.kgv-nussberg.de
SUMMARY:Braunkohlwanderung 2026
DESCRIPTION:Im letzten Jahr trotzten 30 große und kleine Wanderer der Kälte und es war ein wirklich gelungenes Event (siehe Foto). \n \n\nWie läuft es ab?\nLos geht’s wie immer am Vormittag gegen 10:00 Uhr. Wir starten gemeinsam mit der Wanderung am Vereinsheim\, dort wird gegen Mittag auch das Ziel der nicht sehr anstrengenden Wanderung sein. Anschließend laden wir herzlich zum gemeinsamen Braunkohlessen ein (manche sagen auch Grünkohl\, es ist fast dasselbe). Es gibt auch eine vegetarische Alternative. Bitte beim Anmelden unbedingt dazusagen. \nAnmeldung erbeten\nAnmeldungen bitte bis zum um 7. Februar unter Angabe eures Namens und Personenzahl per Mail an info@kgv-nussberg.de durchgeben. Wir freuen uns auf ein paar schöne Stunden mit euch! \nEuer Vorstand \n
URL:https://www.kgv-nussberg.de/termin/braunkohlwanderung-2026/
LOCATION:Vereinsheim KGV Nußberg
END:VEVENT
END:VCALENDAR